BEGIN:VCALENDAR
VERSION:2.0
PRODID:-//AudioTheme 1.8.3
BEGIN:VEVENT
UID:http://www.jimmygnecco.com/?post_type=audiotheme_gig&#038;p=8185
URL:http://www.jimmygnecco.com/shows/jimmy-gnecco-stripped-down-tour-the-bank/
DTSTART;TZID=GMT:20250827T230000
SUMMARY:Jimmy Gnecco Stripped Down Tour @ The Bank
LOCATION:The Bank\, 701 Main St\, Daytona Beach\, FL\, United States\, 32118
END:VEVENT
END:VCALENDAR